BEGIN:VCALENDAR
VERSION:2.0
PRODID:-//DD&#039;s Dog Training - ECPv6.15.20//NONSGML v1.0//EN
CALSCALE:GREGORIAN
METHOD:PUBLISH
X-WR-CALNAME:DD&#039;s Dog Training
X-ORIGINAL-URL:https://ddsdogtraining.com
X-WR-CALDESC:Events for DD&#039;s Dog Training
REFRESH-INTERVAL;VALUE=DURATION:PT1H
X-Robots-Tag:noindex
X-PUBLISHED-TTL:PT1H
BEGIN:VTIMEZONE
TZID:America/Los_Angeles
BEGIN:DAYLIGHT
TZOFFSETFROM:-0800
TZOFFSETTO:-0700
TZNAME:PDT
DTSTART:20250309T100000
END:DAYLIGHT
BEGIN:STANDARD
TZOFFSETFROM:-0700
TZOFFSETTO:-0800
TZNAME:PST
DTSTART:20251102T090000
END:STANDARD
BEGIN:DAYLIGHT
TZOFFSETFROM:-0800
TZOFFSETTO:-0700
TZNAME:PDT
DTSTART:20260308T100000
END:DAYLIGHT
BEGIN:STANDARD
TZOFFSETFROM:-0700
TZOFFSETTO:-0800
TZNAME:PST
DTSTART:20261101T090000
END:STANDARD
BEGIN:DAYLIGHT
TZOFFSETFROM:-0800
TZOFFSETTO:-0700
TZNAME:PDT
DTSTART:20270314T100000
END:DAYLIGHT
BEGIN:STANDARD
TZOFFSETFROM:-0700
TZOFFSETTO:-0800
TZNAME:PST
DTSTART:20271107T090000
END:STANDARD
END:VTIMEZONE
BEGIN:VEVENT
DTSTART;TZID=America/Los_Angeles:20260401T090000
DTEND;TZID=America/Los_Angeles:20260401T140000
DTSTAMP:20260423T105746
CREATED:20260216T222232Z
LAST-MODIFIED:20260216T222232Z
UID:12144-1775034000-1775052000@ddsdogtraining.com
SUMMARY:Sniff and Go 4/1/2026
DESCRIPTION:Event Info\n\nHides will be set for all levels of dogs.\nBeginner dogs welcome.\nThere will be one to two stations. You will move from one station to the other\, with multiple elements set up at each station. You may rest the dog when needed.\nHide locations will remain unchanged throughout the day\, but they will be changed from one day to the next.\nYou may run each area as a blind search\, or as a known search\, your choice.\nYou may sign up multiple dogs.\n\nFees\n\n$30/slot/dog – cash or check. $32/slot/dog PayPal.\nThe first time slot starts at 8:00am\, and every 15/20 minutes or so thereafter.  You can list your desired time slot(s) on the entry form.  Best effort will be made to give you a slot(s) as close to your desired time(s) as possible.\nYour time running will be approximately 20 minutes. The start of your time slot is an estimated time of when you will run. We could be ahead of time\, or running a little late\, that all depends on the dogs\, so there is a chance you will start a little earlier than your scheduled start time\, or a little later. Please arrive early enough to be ready to run at your scheduled time. If you are late and miss your scheduled start time\, we will fit you in.\n\nThree options to pay: *PayPal\, bring cash day of event\, or mail a check payable to: \nDee Dee Anderson\n19681 Brandt Rd\nLodi\, CA 95240 \nSigning up for a spot means you will pay for that spot even if you are absent\, as signing up takes a spot away from someone else. You may move within the month or sell your spot to someone else within each month. \n*PayPal $32 each slot. Put your name\, dog’s call name\, and date(s) you are paying for. Use this link: https://paypal.me/ddsdogtraining. \n\n                        \n                            Sniff and Go 4/1/2026\n                    Event Chair: Sniffy Trial Secretary\nTerms\nBy registering for this event you agree to the following terms: \nI (we) hereby assume the sole responsibility for and agree to indemnify\, defend and save the aforementioned parties harmless from any and all loss and expense (including legal fees) by reason of the liability imposed by law upon any of the aforementioned parties for damage because of bodily injuries\, including death at any time resulting therefrom\, sustained by any person or persons\, including myself (ourselves)\, or on account of damage to property\, arising out of or in consequence of my (our) participation in this event\, however such\, injuries death or property damage may be caused\, and whether or not the same may have been caused or may be alleged to have been caused by the negligence of the aforementioned parties or any of their employees\, agents\, or any other person.
URL:https://ddsdogtraining.com/event/sniff-and-go-4-1-2026/
LOCATION:TBD Linn Rd/Lodi\, Lodi\, United States
CATEGORIES:Matches & Workshops
ORGANIZER;CN="Sniffy Trial Secretary":MAILTO:SniffyTrialSec@gmail.com
END:VEVENT
END:VCALENDAR